Workbook

Sheet Dashboard
B2: MÉTRICAS SaaS
B4: 2025 · MRR, ARR, churn, CAC
B10: ARR ACTUAL | E10: MRR NETO | H10: CHURN MENSUAL | K10: CAC | N10: RETENCIÓN NETA DE INGRESOS
B11: =Cálculo!$B$17 | E11: =Cálculo!$B$18 | H11: =Cálculo!$B$20 | K11: =Cálculo!$B$21 | N11: =Cálculo!$B$23
B12: MRR × 12 | E12: Nuevo + Expansión − Churn | H12: Perdidos / Total | K12: Inversión / Nuevo cliente | N12: De clientes existentes
B14: MRR & ARR
B30: CLIENTES Y EFICIENCIA
B60: Fuente de datos: hoja 'Datos' · Cálculos: hoja 'Cálculo' · Cambia los valores y el dashboard se actualiza solo.

Sheet Datos
A1: MES | B1: MRR NUEVO | C1: MRR EXPANSIÓN | D1: MRR CHURN | E1: MRR CONTRACCIÓN | F1: CLIENTES ACTIVOS | G1: NUEVOS CLIENTES | H1: CLIENTES PERDIDOS | I1: INVERSIÓN MARKETING
A2: 45658 | B2: 1609 | C2: 1269 | D2: 795 | E2: 434 | F2: 861 | G2: 38 | H2: 27 | I2: 28181
A3: 45689 | B3: 2394 | C3: 610 | D3: 1365 | E3: 494 | F3: 878 | G3: 45 | H3: 28 | I3: 27769
A4: 45717 | B4: 2603 | C4: 1186 | D4: 1266 | E4: 546 | F4: 910 | G4: 49 | H4: 17 | I4: 20498
A5: 45748 | B5: 2032 | C5: 680 | D5: 662 | E5: 321 | F5: 929 | G5: 53 | H5: 34 | I5: 25972
A6: 45778 | B6: 2797 | C6: 604 | D6: 811 | E6: 262 | F6: 951 | G6: 39 | H6: 17 | I6: 20887
A7: 45809 | B7: 2609 | C7: 876 | D7: 1318 | E7: 477 | F7: 988 | G7: 65 | H7: 28 | I7: 50447
A8: 45839 | B8: 2479 | C8: 1385 | D8: 794 | E8: 206 | F8: 1016 | G8: 59 | H8: 31 | I8: 30175
A9: 45870 | B9: 3395 | C9: 1102 | D9: 998 | E9: 462 | F9: 1055 | G9: 59 | H9: 20 | I9: 38792
A10: 45901 | B10: 3030 | C10: 617 | D10: 890 | E10: 543 | F10: 1079 | G10: 52 | H10: 28 | I10: 21524
A11: 45931 | B11: 2756 | C11: 629 | D11: 1128 | E11: 282 | F11: 1112 | G11: 50 | H11: 17 | I11: 31318
A12: 45962 | B12: 2235 | C12: 978 | D12: 1214 | E12: 189 | F12: 1122 | G12: 36 | H12: 26 | I12: 19570
A13: 45992 | B13: 3641 | C13: 711 | D13: 795 | E13: 492 | F13: 1146 | G13: 37 | H13: 13 | I13: 26163

Sheet Cálculo
A1: MES | B1: INICIO DEL MES | C1: MRR NUEVO | D1: EXPANSIÓN | E1: CHURN | F1: NETO | G1: MRR TOTAL | H1: ARR
A2: Ene | B2: 45658 | C2: ='Datos'!$B$2 | D2: ='Datos'!$C$2 | E2: ='Datos'!$D$2+'Datos'!$E$2 | F2: =C2+D2-E2 | G2: =28000+F2 | H2: =G2*12
A3: Feb | B3: 45689 | C3: ='Datos'!$B$3 | D3: ='Datos'!$C$3 | E3: ='Datos'!$D$3+'Datos'!$E$3 | F3: =C3+D3-E3 | G3: =G2+F3 | H3: =G3*12
A4: Mar | B4: 45717 | C4: ='Datos'!$B$4 | D4: ='Datos'!$C$4 | E4: ='Datos'!$D$4+'Datos'!$E$4 | F4: =C4+D4-E4 | G4: =G3+F4 | H4: =G4*12
A5: Abr | B5: 45748 | C5: ='Datos'!$B$5 | D5: ='Datos'!$C$5 | E5: ='Datos'!$D$5+'Datos'!$E$5 | F5: =C5+D5-E5 | G5: =G4+F5 | H5: =G5*12
A6: May | B6: 45778 | C6: ='Datos'!$B$6 | D6: ='Datos'!$C$6 | E6: ='Datos'!$D$6+'Datos'!$E$6 | F6: =C6+D6-E6 | G6: =G5+F6 | H6: =G6*12
A7: Jun | B7: 45809 | C7: ='Datos'!$B$7 | D7: ='Datos'!$C$7 | E7: ='Datos'!$D$7+'Datos'!$E$7 | F7: =C7+D7-E7 | G7: =G6+F7 | H7: =G7*12
A8: Jul | B8: 45839 | C8: ='Datos'!$B$8 | D8: ='Datos'!$C$8 | E8: ='Datos'!$D$8+'Datos'!$E$8 | F8: =C8+D8-E8 | G8: =G7+F8 | H8: =G8*12
A9: Ago | B9: 45870 | C9: ='Datos'!$B$9 | D9: ='Datos'!$C$9 | E9: ='Datos'!$D$9+'Datos'!$E$9 | F9: =C9+D9-E9 | G9: =G8+F9 | H9: =G9*12
A10: Sep | B10: 45901 | C10: ='Datos'!$B$10 | D10: ='Datos'!$C$10 | E10: ='Datos'!$D$10+'Datos'!$E$10 | F10: =C10+D10-E10 | G10: =G9+F10 | H10: =G10*12
A11: Oct | B11: 45931 | C11: ='Datos'!$B$11 | D11: ='Datos'!$C$11 | E11: ='Datos'!$D$11+'Datos'!$E$11 | F11: =C11+D11-E11 | G11: =G10+F11 | H11: =G11*12
A12: Nov | B12: 45962 | C12: ='Datos'!$B$12 | D12: ='Datos'!$C$12 | E12: ='Datos'!$D$12+'Datos'!$E$12 | F12: =C12+D12-E12 | G12: =G11+F12 | H12: =G12*12
A13: Dic | B13: 45992 | C13: ='Datos'!$B$13 | D13: ='Datos'!$C$13 | E13: ='Datos'!$D$13+'Datos'!$E$13 | F13: =C13+D13-E13 | G13: =G12+F13 | H13: =G13*12
A16: CÁLCULOS KPI
A17: ARR total | B17: =H13
A18: MRR total | B18: =G13
A19: Promedio MRR neto mensual | B19: =AVERAGE(F2:F13)
A20: Churn anual % | B20: =IFERROR(SUM('Datos'!$D$2:$D$5000)/(SUM('Datos'!$D$2:$D$5000)+G13),0)
A21: CAC | B21: =IFERROR(SUM('Datos'!$I$2:$I$5000)/SUM('Datos'!$G$2:$G$5000),0)
A22: LTV medio | B22: =IFERROR($B$18/(($B$20/12)),0)
A23: LTV/CAC | B23: =IFERROR($B$22/$B$21,0)
A24: Clientes totales | B24: =AVERAGE('Datos'!$F$2:$F$5000)
A25: Nuevos clientes (año) | B25: =SUM('Datos'!$G$2:$G$5000)
A26: Clientes perdidos (año) | B26: =SUM('Datos'!$H$2:$H$5000)
