Workbook

Sheet Dashboard
B2: SaaS METRICS
B4: 2025 · MRR, ARR, churn, CAC
B10: CURRENT ARR | E10: NET MRR | H10: MONTHLY CHURN | K10: CAC | N10: NET REVENUE RETENTION
B11: =Calc!$B$17 | E11: =Calc!$B$18 | H11: =Calc!$B$20 | K11: =Calc!$B$21 | N11: =Calc!$B$23
B12: MRR × 12 | E12: New + Expansion − Churn | H12: Lost / Total | K12: Spend / New Customer | N12: From existing customers
B14: MRR & ARR
B30: CUSTOMERS & EFFICIENCY
B60: Data source: 'Data' sheet · Calculations: 'Calc' sheet · Change values and the dashboard updates automatically.

Sheet Data
A1: MONTH | B1: NEW MRR | C1: EXPANSION MRR | D1: CHURNED MRR | E1: CONTRACTION MRR | F1: ACTIVE CUSTOMERS | G1: NEW CUSTOMERS | H1: CHURNED CUSTOMERS | I1: MARKETING SPEND
A2: 45658 | B2: 5460 | C2: 4306 | D2: 2699 | E2: 1474 | F2: 861 | G2: 38 | H2: 27 | I2: 28181
A3: 45689 | B3: 8124 | C3: 2072 | D3: 4633 | E3: 1676 | F3: 878 | G3: 45 | H3: 28 | I3: 27769
A4: 45717 | B4: 8833 | C4: 4027 | D4: 4298 | E4: 1854 | F4: 910 | G4: 49 | H4: 17 | I4: 20498
A5: 45748 | B5: 6895 | C5: 2309 | D5: 2247 | E5: 1089 | F5: 929 | G5: 53 | H5: 34 | I5: 25972
A6: 45778 | B6: 9492 | C6: 2051 | D6: 2754 | E6: 890 | F6: 951 | G6: 39 | H6: 17 | I6: 20887
A7: 45809 | B7: 8854 | C7: 2973 | D7: 4473 | E7: 1619 | F7: 988 | G7: 65 | H7: 28 | I7: 50447
A8: 45839 | B8: 8411 | C8: 4702 | D8: 2695 | E8: 698 | F8: 1016 | G8: 59 | H8: 31 | I8: 30175
A9: 45870 | B9: 11520 | C9: 3739 | D9: 3388 | E9: 1569 | F9: 1055 | G9: 59 | H9: 20 | I9: 38792
A10: 45901 | B10: 10280 | C10: 2096 | D10: 3019 | E10: 1845 | F10: 1079 | G10: 52 | H10: 28 | I10: 21524
A11: 45931 | B11: 9352 | C11: 2134 | D11: 3827 | E11: 958 | F11: 1112 | G11: 50 | H11: 17 | I11: 31318
A12: 45962 | B12: 7584 | C12: 3321 | D12: 4120 | E12: 644 | F12: 1122 | G12: 36 | H12: 26 | I12: 19570
A13: 45992 | B13: 12355 | C13: 2414 | D13: 2699 | E13: 1671 | F13: 1146 | G13: 37 | H13: 13 | I13: 26163

Sheet Calc
A1: MONTH | B1: MONTH START | C1: NEW MRR | D1: EXPANSION | E1: CHURN | F1: NET | G1: TOTAL MRR | H1: ARR
A2: Jan | B2: 45658 | C2: ='Data'!$B$2 | D2: ='Data'!$C$2 | E2: ='Data'!$D$2+'Data'!$E$2 | F2: =C2+D2-E2 | G2: =95000+F2 | H2: =G2*12
A3: Feb | B3: 45689 | C3: ='Data'!$B$3 | D3: ='Data'!$C$3 | E3: ='Data'!$D$3+'Data'!$E$3 | F3: =C3+D3-E3 | G3: =G2+F3 | H3: =G3*12
A4: Mar | B4: 45717 | C4: ='Data'!$B$4 | D4: ='Data'!$C$4 | E4: ='Data'!$D$4+'Data'!$E$4 | F4: =C4+D4-E4 | G4: =G3+F4 | H4: =G4*12
A5: Apr | B5: 45748 | C5: ='Data'!$B$5 | D5: ='Data'!$C$5 | E5: ='Data'!$D$5+'Data'!$E$5 | F5: =C5+D5-E5 | G5: =G4+F5 | H5: =G5*12
A6: May | B6: 45778 | C6: ='Data'!$B$6 | D6: ='Data'!$C$6 | E6: ='Data'!$D$6+'Data'!$E$6 | F6: =C6+D6-E6 | G6: =G5+F6 | H6: =G6*12
A7: Jun | B7: 45809 | C7: ='Data'!$B$7 | D7: ='Data'!$C$7 | E7: ='Data'!$D$7+'Data'!$E$7 | F7: =C7+D7-E7 | G7: =G6+F7 | H7: =G7*12
A8: Jul | B8: 45839 | C8: ='Data'!$B$8 | D8: ='Data'!$C$8 | E8: ='Data'!$D$8+'Data'!$E$8 | F8: =C8+D8-E8 | G8: =G7+F8 | H8: =G8*12
A9: Aug | B9: 45870 | C9: ='Data'!$B$9 | D9: ='Data'!$C$9 | E9: ='Data'!$D$9+'Data'!$E$9 | F9: =C9+D9-E9 | G9: =G8+F9 | H9: =G9*12
A10: Sep | B10: 45901 | C10: ='Data'!$B$10 | D10: ='Data'!$C$10 | E10: ='Data'!$D$10+'Data'!$E$10 | F10: =C10+D10-E10 | G10: =G9+F10 | H10: =G10*12
A11: Oct | B11: 45931 | C11: ='Data'!$B$11 | D11: ='Data'!$C$11 | E11: ='Data'!$D$11+'Data'!$E$11 | F11: =C11+D11-E11 | G11: =G10+F11 | H11: =G11*12
A12: Nov | B12: 45962 | C12: ='Data'!$B$12 | D12: ='Data'!$C$12 | E12: ='Data'!$D$12+'Data'!$E$12 | F12: =C12+D12-E12 | G12: =G11+F12 | H12: =G12*12
A13: Dec | B13: 45992 | C13: ='Data'!$B$13 | D13: ='Data'!$C$13 | E13: ='Data'!$D$13+'Data'!$E$13 | F13: =C13+D13-E13 | G13: =G12+F13 | H13: =G13*12
A16: KPI CALCULATIONS
A17: Total ARR | B17: =H13
A18: Total MRR | B18: =G13
A19: Avg Monthly Net MRR | B19: =AVERAGE(F2:F13)
A20: Annual Churn % | B20: =IFERROR(SUM('Data'!$D$2:$D$5000)/(SUM('Data'!$D$2:$D$5000)+G13),0)
A21: CAC | B21: =IFERROR(SUM('Data'!$I$2:$I$5000)/SUM('Data'!$G$2:$G$5000),0)
A22: Avg LTV | B22: =IFERROR($B$18/(($B$20/12)),0)
A23: LTV/CAC | B23: =IFERROR($B$22/$B$21,0)
A24: Total Customers | B24: =AVERAGE('Data'!$F$2:$F$5000)
A25: New Customers (YR) | B25: =SUM('Data'!$G$2:$G$5000)
A26: Churned Customers (YR) | B26: =SUM('Data'!$H$2:$H$5000)
